BEGIN:VCALENDAR
VERSION:2.0
PRODID:-//Avon Township - ECPv6.15.20//NONSGML v1.0//EN
CALSCALE:GREGORIAN
METHOD:PUBLISH
X-WR-CALNAME:Avon Township
X-ORIGINAL-URL:https://www.avonil.us
X-WR-CALDESC:Events for Avon Township
REFRESH-INTERVAL;VALUE=DURATION:PT1H
X-Robots-Tag:noindex
X-PUBLISHED-TTL:PT1H
BEGIN:VTIMEZONE
TZID:America/Chicago
BEGIN:DAYLIGHT
TZOFFSETFROM:-0600
TZOFFSETTO:-0500
TZNAME:CDT
DTSTART:20250309T080000
END:DAYLIGHT
BEGIN:STANDARD
TZOFFSETFROM:-0500
TZOFFSETTO:-0600
TZNAME:CST
DTSTART:20251102T070000
END:STANDARD
BEGIN:DAYLIGHT
TZOFFSETFROM:-0600
TZOFFSETTO:-0500
TZNAME:CDT
DTSTART:20260308T080000
END:DAYLIGHT
BEGIN:STANDARD
TZOFFSETFROM:-0500
TZOFFSETTO:-0600
TZNAME:CST
DTSTART:20261101T070000
END:STANDARD
BEGIN:DAYLIGHT
TZOFFSETFROM:-0600
TZOFFSETTO:-0500
TZNAME:CDT
DTSTART:20270314T080000
END:DAYLIGHT
BEGIN:STANDARD
TZOFFSETFROM:-0500
TZOFFSETTO:-0600
TZNAME:CST
DTSTART:20271107T070000
END:STANDARD
BEGIN:DAYLIGHT
TZOFFSETFROM:-0600
TZOFFSETTO:-0500
TZNAME:CDT
DTSTART:20280312T080000
END:DAYLIGHT
BEGIN:STANDARD
TZOFFSETFROM:-0500
TZOFFSETTO:-0600
TZNAME:CST
DTSTART:20281105T070000
END:STANDARD
BEGIN:DAYLIGHT
TZOFFSETFROM:-0600
TZOFFSETTO:-0500
TZNAME:CDT
DTSTART:20290311T080000
END:DAYLIGHT
BEGIN:STANDARD
TZOFFSETFROM:-0500
TZOFFSETTO:-0600
TZNAME:CST
DTSTART:20291104T070000
END:STANDARD
END:VTIMEZONE
BEGIN:VEVENT
DTSTART;TZID=America/Chicago:20260512T183000
DTEND;TZID=America/Chicago:20260512T183000
DTSTAMP:20260424T071912
CREATED:20260114T190220Z
LAST-MODIFIED:20260114T191116Z
UID:2552-1778610600-1778610600@www.avonil.us
SUMMARY:General Meeting
DESCRIPTION:
URL:https://www.avonil.us/event/general-meeting-29/
LOCATION:Avon Township\, 433 E Washington St\, Round Lake Park\, IL\, 60073
END:VEVENT
BEGIN:VEVENT
DTSTART;VALUE=DATE:20260525
DTEND;VALUE=DATE:20260526
DTSTAMP:20260424T071912
CREATED:20260114T202945Z
LAST-MODIFIED:20260114T202945Z
UID:2585-1779667200-1779753599@www.avonil.us
SUMMARY:Memorial Day - Office is Closed
DESCRIPTION:
URL:https://www.avonil.us/event/memorial-day-office-is-closed/
END:VEVENT
BEGIN:VEVENT
DTSTART;TZID=America/Chicago:20260609T183000
DTEND;TZID=America/Chicago:20260609T183000
DTSTAMP:20260424T071912
CREATED:20260114T191430Z
LAST-MODIFIED:20260114T191430Z
UID:2558-1781029800-1781029800@www.avonil.us
SUMMARY:General Meeting
DESCRIPTION:
URL:https://www.avonil.us/event/general-meeting-31/
LOCATION:Avon Township\, 433 E Washington St\, Round Lake Park\, IL\, 60073
END:VEVENT
BEGIN:VEVENT
DTSTART;VALUE=DATE:20260619
DTEND;VALUE=DATE:20260819
DTSTAMP:20260424T071912
CREATED:20260114T203153Z
LAST-MODIFIED:20260114T203302Z
UID:2588-1781827200-1787097599@www.avonil.us
SUMMARY:Juneteenth Day - Office is Closed
DESCRIPTION:
URL:https://www.avonil.us/event/juneteenth-day-office-is-closed/
LOCATION:Avon Township\, 433 E Washington St\, Round Lake Park\, IL\, 60073
END:VEVENT
BEGIN:VEVENT
DTSTART;VALUE=DATE:20260703
DTEND;VALUE=DATE:20260704
DTSTAMP:20260424T071912
CREATED:20260114T204243Z
LAST-MODIFIED:20260114T204243Z
UID:2591-1783036800-1783123199@www.avonil.us
SUMMARY:Independence Day - Office is Closed
DESCRIPTION:
URL:https://www.avonil.us/event/independence-day-office-is-closed/
END:VEVENT
BEGIN:VEVENT
DTSTART;TZID=America/Chicago:20260714T183000
DTEND;TZID=America/Chicago:20260714T183000
DTSTAMP:20260424T071912
CREATED:20260114T191519Z
LAST-MODIFIED:20260114T191519Z
UID:2560-1784053800-1784053800@www.avonil.us
SUMMARY:General Meeting
DESCRIPTION:
URL:https://www.avonil.us/event/general-meeting-32/
LOCATION:Avon Township\, 433 E Washington St\, Round Lake Park\, IL\, 60073
END:VEVENT
BEGIN:VEVENT
DTSTART;TZID=America/Chicago:20260811T183000
DTEND;TZID=America/Chicago:20260811T183000
DTSTAMP:20260424T071912
CREATED:20260114T191639Z
LAST-MODIFIED:20260114T191639Z
UID:2562-1786473000-1786473000@www.avonil.us
SUMMARY:General Meeting
DESCRIPTION:
URL:https://www.avonil.us/event/general-meeting-33/
LOCATION:Avon Township\, 433 E Washington St\, Round Lake Park\, IL\, 60073
END:VEVENT
BEGIN:VEVENT
DTSTART;VALUE=DATE:20260907
DTEND;VALUE=DATE:20260908
DTSTAMP:20260424T071912
CREATED:20260114T204457Z
LAST-MODIFIED:20260114T204457Z
UID:2593-1788739200-1788825599@www.avonil.us
SUMMARY:Labor Day - Office is Closed
DESCRIPTION:
URL:https://www.avonil.us/event/labor-day-office-is-closed/
END:VEVENT
BEGIN:VEVENT
DTSTART;TZID=America/Chicago:20260908T183000
DTEND;TZID=America/Chicago:20260908T183000
DTSTAMP:20260424T071912
CREATED:20260114T191845Z
LAST-MODIFIED:20260114T192148Z
UID:2564-1788892200-1788892200@www.avonil.us
SUMMARY:General Meeting
DESCRIPTION:
URL:https://www.avonil.us/event/general-meeting-34/
LOCATION:Avon Township\, 433 E Washington St\, Round Lake Park\, IL\, 60073
END:VEVENT
BEGIN:VEVENT
DTSTART;VALUE=DATE:20261012
DTEND;VALUE=DATE:20261013
DTSTAMP:20260424T071912
CREATED:20260114T204543Z
LAST-MODIFIED:20260114T204543Z
UID:2595-1791763200-1791849599@www.avonil.us
SUMMARY:Columbus Day - Office is Closed
DESCRIPTION:
URL:https://www.avonil.us/event/columbus-day-office-is-closed/
END:VEVENT
BEGIN:VEVENT
DTSTART;TZID=America/Chicago:20261013T183000
DTEND;TZID=America/Chicago:20261013T183000
DTSTAMP:20260424T071912
CREATED:20260114T192352Z
LAST-MODIFIED:20260114T192352Z
UID:2566-1791916200-1791916200@www.avonil.us
SUMMARY:General Meeting
DESCRIPTION:
URL:https://www.avonil.us/event/general-meeting-35/
LOCATION:Avon Township\, 433 E Washington St\, Round Lake Park\, IL\, 60073
END:VEVENT
BEGIN:VEVENT
DTSTART;TZID=America/Chicago:20261110T183000
DTEND;TZID=America/Chicago:20261110T183000
DTSTAMP:20260424T071912
CREATED:20260114T194058Z
LAST-MODIFIED:20260114T194058Z
UID:2574-1794335400-1794335400@www.avonil.us
SUMMARY:General Meeting
DESCRIPTION:
URL:https://www.avonil.us/event/general-meeting-39/
LOCATION:Avon Township\, 433 E Washington St\, Round Lake Park\, IL\, 60073
END:VEVENT
BEGIN:VEVENT
DTSTART;VALUE=DATE:20261111
DTEND;VALUE=DATE:20261112
DTSTAMP:20260424T071912
CREATED:20260114T204804Z
LAST-MODIFIED:20260114T204804Z
UID:2597-1794355200-1794441599@www.avonil.us
SUMMARY:Veterans Day - Office is Closed
DESCRIPTION:
URL:https://www.avonil.us/event/veterans-day-office-is-closed/
END:VEVENT
BEGIN:VEVENT
DTSTART;VALUE=DATE:20261126
DTEND;VALUE=DATE:20261127
DTSTAMP:20260424T071912
CREATED:20260114T204852Z
LAST-MODIFIED:20260114T204943Z
UID:2599-1795651200-1795737599@www.avonil.us
SUMMARY:Thanksgiving Day - Office is Closed
DESCRIPTION:
URL:https://www.avonil.us/event/thanksgiving-day-office-is-closed/
END:VEVENT
BEGIN:VEVENT
DTSTART;VALUE=DATE:20261127
DTEND;VALUE=DATE:20261128
DTSTAMP:20260424T071912
CREATED:20260114T205113Z
LAST-MODIFIED:20260114T205113Z
UID:2601-1795737600-1795823999@www.avonil.us
SUMMARY:Thanksgiving Holiday Weekend - Office is Closed
DESCRIPTION:
URL:https://www.avonil.us/event/thanksgiving-holiday-weekend-office-is-closed/
END:VEVENT
BEGIN:VEVENT
DTSTART;TZID=America/Chicago:20261208T183000
DTEND;TZID=America/Chicago:20261208T183000
DTSTAMP:20260424T071912
CREATED:20260114T192513Z
LAST-MODIFIED:20260114T192558Z
UID:2568-1796754600-1796754600@www.avonil.us
SUMMARY:General Meeting
DESCRIPTION:
URL:https://www.avonil.us/event/general-meeting-36/
LOCATION:Avon Township\, 433 E Washington St\, Round Lake Park\, IL\, 60073
END:VEVENT
BEGIN:VEVENT
DTSTART;VALUE=DATE:20261224
DTEND;VALUE=DATE:20261225
DTSTAMP:20260424T071912
CREATED:20260114T205603Z
LAST-MODIFIED:20260114T205603Z
UID:2605-1798070400-1798156799@www.avonil.us
SUMMARY:Christmas Eve - Office is Closed
DESCRIPTION:
URL:https://www.avonil.us/event/christmas-eve-office-is-closed/
END:VEVENT
BEGIN:VEVENT
DTSTART;VALUE=DATE:20261225
DTEND;VALUE=DATE:20261226
DTSTAMP:20260424T071912
CREATED:20260114T205846Z
LAST-MODIFIED:20260114T205846Z
UID:2607-1798156800-1798243199@www.avonil.us
SUMMARY:Christmas Day - Office is Closed
DESCRIPTION:
URL:https://www.avonil.us/event/christmas-day-office-is-closed/
END:VEVENT
BEGIN:VEVENT
DTSTART;TZID=America/Chicago:20270112T183000
DTEND;TZID=America/Chicago:20270112T183000
DTSTAMP:20260424T071912
CREATED:20260114T201502Z
LAST-MODIFIED:20260114T201556Z
UID:2576-1799778600-1799778600@www.avonil.us
SUMMARY:General Meeting
DESCRIPTION:
URL:https://www.avonil.us/event/general-meeting-40/
LOCATION:Avon Township\, 433 E Washington St\, Round Lake Park\, IL\, 60073
END:VEVENT
BEGIN:VEVENT
DTSTART;TZID=America/Chicago:20270209T183000
DTEND;TZID=America/Chicago:20280209T183000
DTSTAMP:20260424T071912
CREATED:20260114T192649Z
LAST-MODIFIED:20260114T193947Z
UID:2570-1802197800-1833733800@www.avonil.us
SUMMARY:General Meeting
DESCRIPTION:
URL:https://www.avonil.us/event/general-meeting-37/
LOCATION:Avon Township\, 433 E Washington St\, Round Lake Park\, IL\, 60073
END:VEVENT
BEGIN:VEVENT
DTSTART;TZID=America/Chicago:20270309T183000
DTEND;TZID=America/Chicago:20270309T183000
DTSTAMP:20260424T071912
CREATED:20260114T192910Z
LAST-MODIFIED:20260114T192910Z
UID:2572-1804617000-1804617000@www.avonil.us
SUMMARY:General Meeting
DESCRIPTION:
URL:https://www.avonil.us/event/general-meeting-38/
LOCATION:Avon Township\, 433 E Washington St\, Round Lake Park\, IL\, 60073
END:VEVENT
END:VCALENDAR